BEGIN:VCALENDAR
VERSION:2.0
PRODID:-//Contratero//ES
CALSCALE:GREGORIAN
METHOD:PUBLISH
BEGIN:VEVENT
UID:06 2022@contratero.es
DTSTAMP:20260422T231028Z
DTSTART:20220705T235959
DTEND:20220706T005959
SUMMARY:Cierre: Servei de continuïtat o migració de la plataforma 
DESCRIPTION:Servei de continuïtat o migració de la plataforma OTT (Over-The-Top) de la FTPP\\n\\nOrganismo: Dirección Gerencia de la Fundació Teatre Principal de Palma\\n\\nVer en Contratero: https://contratero.es/contracts/06 2022
URL:https://contratero.es/contracts/06 2022
STATUS:CONFIRMED
BEGIN:VALARM
TRIGGER:-P1D
ACTION:DISPLAY
DESCRIPTION:Recordatorio: Servei de continuïtat o migrac
END:VALARM
END:VEVENT
END:VCALENDAR